BEGIN:VCALENDAR
VERSION:2.0
PRODID:-//Distance Learning Academy - ECPv6.15.17.1//NONSGML v1.0//EN
CALSCALE:GREGORIAN
METHOD:PUBLISH
X-ORIGINAL-URL:https://distancelearningacademy.tuhsd.org
X-WR-CALDESC:Events for Distance Learning Academy
REFRESH-INTERVAL;VALUE=DURATION:PT1H
X-Robots-Tag:noindex
X-PUBLISHED-TTL:PT1H
BEGIN:VTIMEZONE
TZID:America/Phoenix
BEGIN:STANDARD
TZOFFSETFROM:-0700
TZOFFSETTO:-0700
TZNAME:MST
DTSTART:20240101T000000
END:STANDARD
END:VTIMEZONE
BEGIN:VEVENT
DTSTART;TZID=America/Phoenix:20251107T080000
DTEND;TZID=America/Phoenix:20251107T170000
DTSTAMP:20260421T190633
CREATED:20241227T073246Z
LAST-MODIFIED:20241227T073246Z
UID:10000046-1762502400-1762534800@distancelearningacademy.tuhsd.org
SUMMARY:Sample Weekly Event
DESCRIPTION:
URL:https://distancelearningacademy.tuhsd.org/calendar-event/sample-weekly-event/2025-11-07
END:VEVENT
BEGIN:VEVENT
DTSTART;TZID=America/Phoenix:20251114T080000
DTEND;TZID=America/Phoenix:20251114T170000
DTSTAMP:20260421T190633
CREATED:20241227T073246Z
LAST-MODIFIED:20241227T073246Z
UID:10000047-1763107200-1763139600@distancelearningacademy.tuhsd.org
SUMMARY:Sample Weekly Event
DESCRIPTION:
URL:https://distancelearningacademy.tuhsd.org/calendar-event/sample-weekly-event/2025-11-14
END:VEVENT
BEGIN:VEVENT
DTSTART;TZID=America/Phoenix:20251121T080000
DTEND;TZID=America/Phoenix:20251121T170000
DTSTAMP:20260421T190633
CREATED:20241227T073246Z
LAST-MODIFIED:20241227T073246Z
UID:10000048-1763712000-1763744400@distancelearningacademy.tuhsd.org
SUMMARY:Sample Weekly Event
DESCRIPTION:
URL:https://distancelearningacademy.tuhsd.org/calendar-event/sample-weekly-event/2025-11-21
END:VEVENT
BEGIN:VEVENT
DTSTART;TZID=America/Phoenix:20251127T110000
DTEND;TZID=America/Phoenix:20251127T140000
DTSTAMP:20260421T190633
CREATED:20251121T045442Z
LAST-MODIFIED:20251121T045442Z
UID:10000263-1764241200-1764252000@distancelearningacademy.tuhsd.org
SUMMARY:Thanksgiving Day Community Dinner
DESCRIPTION:
URL:https://distancelearningacademy.tuhsd.org/calendar-event/thanksgiving-day-community-dinner
LOCATION:Tolleson Union High School Cafenasium\, 9419 West Van Buren Street\, Tolleson\, AZ\, 85353\, United States
END:VEVENT
BEGIN:VEVENT
DTSTART;TZID=America/Phoenix:20251128T080000
DTEND;TZID=America/Phoenix:20251128T170000
DTSTAMP:20260421T190633
CREATED:20241227T073246Z
LAST-MODIFIED:20241227T073246Z
UID:10000049-1764316800-1764349200@distancelearningacademy.tuhsd.org
SUMMARY:Sample Weekly Event
DESCRIPTION:
URL:https://distancelearningacademy.tuhsd.org/calendar-event/sample-weekly-event/2025-11-28
END:VEVENT
END:VCALENDAR