BEGIN:VCALENDAR
VERSION:2.0
PRODID:-//Distance Learning Academy - ECPv6.15.17.1//NONSGML v1.0//EN
CALSCALE:GREGORIAN
METHOD:PUBLISH
X-WR-CALNAME:Distance Learning Academy
X-ORIGINAL-URL:https://distancelearningacademy.tuhsd.org
X-WR-CALDESC:Events for Distance Learning Academy
REFRESH-INTERVAL;VALUE=DURATION:PT1H
X-Robots-Tag:noindex
X-PUBLISHED-TTL:PT1H
BEGIN:VTIMEZONE
TZID:America/Phoenix
BEGIN:STANDARD
TZOFFSETFROM:-0700
TZOFFSETTO:-0700
TZNAME:MST
DTSTART:20240101T000000
END:STANDARD
END:VTIMEZONE
BEGIN:VEVENT
DTSTART;TZID=America/Phoenix:20251003T080000
DTEND;TZID=America/Phoenix:20251003T170000
DTSTAMP:20260425T181035
CREATED:20241227T073246Z
LAST-MODIFIED:20241227T073246Z
UID:10000041-1759478400-1759510800@distancelearningacademy.tuhsd.org
SUMMARY:Sample Weekly Event
DESCRIPTION:
URL:https://distancelearningacademy.tuhsd.org/calendar-event/sample-weekly-event/2025-10-03
END:VEVENT
BEGIN:VEVENT
DTSTART;TZID=America/Phoenix:20251010T080000
DTEND;TZID=America/Phoenix:20251010T170000
DTSTAMP:20260425T181035
CREATED:20241227T073246Z
LAST-MODIFIED:20241227T073246Z
UID:10000042-1760083200-1760115600@distancelearningacademy.tuhsd.org
SUMMARY:Sample Weekly Event
DESCRIPTION:
URL:https://distancelearningacademy.tuhsd.org/calendar-event/sample-weekly-event/2025-10-10
END:VEVENT
BEGIN:VEVENT
DTSTART;TZID=America/Phoenix:20251017T080000
DTEND;TZID=America/Phoenix:20251017T170000
DTSTAMP:20260425T181035
CREATED:20241227T073246Z
LAST-MODIFIED:20241227T073246Z
UID:10000043-1760688000-1760720400@distancelearningacademy.tuhsd.org
SUMMARY:Sample Weekly Event
DESCRIPTION:
URL:https://distancelearningacademy.tuhsd.org/calendar-event/sample-weekly-event/2025-10-17
END:VEVENT
BEGIN:VEVENT
DTSTART;TZID=America/Phoenix:20251024T080000
DTEND;TZID=America/Phoenix:20251024T170000
DTSTAMP:20260425T181035
CREATED:20241227T073246Z
LAST-MODIFIED:20241227T073246Z
UID:10000044-1761292800-1761325200@distancelearningacademy.tuhsd.org
SUMMARY:Sample Weekly Event
DESCRIPTION:
URL:https://distancelearningacademy.tuhsd.org/calendar-event/sample-weekly-event/2025-10-24
END:VEVENT
BEGIN:VEVENT
DTSTART;TZID=America/Phoenix:20251024T173000
DTEND;TZID=America/Phoenix:20251024T193000
DTSTAMP:20260425T181035
CREATED:20250816T152059Z
LAST-MODIFIED:20250816T152059Z
UID:10000262-1761327000-1761334200@distancelearningacademy.tuhsd.org
SUMMARY:Community Resource Fair Trunk or Treat
DESCRIPTION:
URL:https://distancelearningacademy.tuhsd.org/calendar-event/community-resource-fair-trunk-or-treat
LOCATION:District Office
END:VEVENT
BEGIN:VEVENT
DTSTART;TZID=America/Phoenix:20251031T080000
DTEND;TZID=America/Phoenix:20251031T170000
DTSTAMP:20260425T181035
CREATED:20241227T073246Z
LAST-MODIFIED:20241227T073246Z
UID:10000045-1761897600-1761930000@distancelearningacademy.tuhsd.org
SUMMARY:Sample Weekly Event
DESCRIPTION:
URL:https://distancelearningacademy.tuhsd.org/calendar-event/sample-weekly-event/2025-10-31
END:VEVENT
END:VCALENDAR